BEGIN:VCALENDAR
VERSION:2.0
PRODID:-//Welcome To East Sunshine - ECPv6.15.20//NONSGML v1.0//EN
CALSCALE:GREGORIAN
METHOD:PUBLISH
X-ORIGINAL-URL:https://eastsunshine.org
X-WR-CALDESC:Events for Welcome To East Sunshine
REFRESH-INTERVAL;VALUE=DURATION:PT1H
X-Robots-Tag:noindex
X-PUBLISHED-TTL:PT1H
BEGIN:VTIMEZONE
TZID:America/Chicago
BEGIN:DAYLIGHT
TZOFFSETFROM:-0600
TZOFFSETTO:-0500
TZNAME:CDT
DTSTART:20240310T080000
END:DAYLIGHT
BEGIN:STANDARD
TZOFFSETFROM:-0500
TZOFFSETTO:-0600
TZNAME:CST
DTSTART:20241103T070000
END:STANDARD
BEGIN:DAYLIGHT
TZOFFSETFROM:-0600
TZOFFSETTO:-0500
TZNAME:CDT
DTSTART:20250309T080000
END:DAYLIGHT
BEGIN:STANDARD
TZOFFSETFROM:-0500
TZOFFSETTO:-0600
TZNAME:CST
DTSTART:20251102T070000
END:STANDARD
BEGIN:DAYLIGHT
TZOFFSETFROM:-0600
TZOFFSETTO:-0500
TZNAME:CDT
DTSTART:20260308T080000
END:DAYLIGHT
BEGIN:STANDARD
TZOFFSETFROM:-0500
TZOFFSETTO:-0600
TZNAME:CST
DTSTART:20261101T070000
END:STANDARD
BEGIN:DAYLIGHT
TZOFFSETFROM:-0600
TZOFFSETTO:-0500
TZNAME:CDT
DTSTART:20270314T080000
END:DAYLIGHT
BEGIN:STANDARD
TZOFFSETFROM:-0500
TZOFFSETTO:-0600
TZNAME:CST
DTSTART:20271107T070000
END:STANDARD
END:VTIMEZONE
BEGIN:VEVENT
DTSTART;TZID=America/Chicago:20260306T180000
DTEND;TZID=America/Chicago:20260306T200000
DTSTAMP:20260420T053716
CREATED:20260113T212004Z
LAST-MODIFIED:20260212T211650Z
UID:10004407-1772820000-1772827200@eastsunshine.org
SUMMARY:Men's Retreat - March 6 & 7
DESCRIPTION:The men of East Sunshine are encouraged to gather for a Men’s Retreat at the church building. Plan on coming Friday\, March 6 at 6:00pm for dinner and the welcome session\, then stay for board games as the night winds down. Come back bright and early on Saturday morning for a delicious breakfast and more gatherings aimed to feed your soul. Later lunch will be served and the wind up happens at 2:30 pm. \nSaturday\, you will be encouraged and blessed by these topics:                                                                                                                                                    Session 1 (Greg Bukovatz: Standing Up: Rejecting Passivity and Embracing Responsibility)                                                                                                  Session 2 (Mike Johns: Strength That Blesses: Using Power to Build\, Not Control)                                                                                                                    Session 3 (Jeff Broussard: Walking It Out: Becoming a Man Who Stands Up Daily) \nThe cost is $25 for attendance and three meals. Scholarships are available\, so don’t let anything deter you from attending this great time of getting together to share life in Jesus with your brothers in Christ! \nSIGN UP HERE
URL:https://eastsunshine.org/event/mens-retreat-3/
LOCATION:Fireside Room
CATEGORIES:Men's Ministry
ATTACH;FMTTYPE=image/jpeg:https://eastsunshine.org/wp-content/uploads/2026/01/Mens-Retreat-web.jpg
END:VEVENT
BEGIN:VEVENT
DTSTART;TZID=America/Chicago:20250318T180000
DTEND;TZID=America/Chicago:20250318T200000
DTSTAMP:20260420T053716
CREATED:20250219T162123Z
LAST-MODIFIED:20250219T162615Z
UID:10004021-1742320800-1742328000@eastsunshine.org
SUMMARY:Men's Ministry - Meet-n-Eat!
DESCRIPTION:The men of ESC will be meeting this month at Pizza Ranch for an evening of food\, friendship and fellowship. We will enjoy the buffet and just have a relaxing evening making connections and enjoying each others company!
URL:https://eastsunshine.org/event/mens-ministry-meet-n-eat/
CATEGORIES:Men's Ministry
ATTACH;FMTTYPE=image/jpeg:https://eastsunshine.org/wp-content/uploads/2025/02/MM-meet-n-eat-SLIDE.jpg
END:VEVENT
END:VCALENDAR