BEGIN:VCALENDAR
VERSION:2.0
PRODID:-//Welcome To East Sunshine - ECPv6.15.20//NONSGML v1.0//EN
CALSCALE:GREGORIAN
METHOD:PUBLISH
X-WR-CALNAME:Welcome To East Sunshine
X-ORIGINAL-URL:https://eastsunshine.org
X-WR-CALDESC:Events for Welcome To East Sunshine
REFRESH-INTERVAL;VALUE=DURATION:PT1H
X-Robots-Tag:noindex
X-PUBLISHED-TTL:PT1H
BEGIN:VTIMEZONE
TZID:America/Chicago
BEGIN:DAYLIGHT
TZOFFSETFROM:-0600
TZOFFSETTO:-0500
TZNAME:CDT
DTSTART:20250309T080000
END:DAYLIGHT
BEGIN:STANDARD
TZOFFSETFROM:-0500
TZOFFSETTO:-0600
TZNAME:CST
DTSTART:20251102T070000
END:STANDARD
BEGIN:DAYLIGHT
TZOFFSETFROM:-0600
TZOFFSETTO:-0500
TZNAME:CDT
DTSTART:20260308T080000
END:DAYLIGHT
BEGIN:STANDARD
TZOFFSETFROM:-0500
TZOFFSETTO:-0600
TZNAME:CST
DTSTART:20261101T070000
END:STANDARD
BEGIN:DAYLIGHT
TZOFFSETFROM:-0600
TZOFFSETTO:-0500
TZNAME:CDT
DTSTART:20270314T080000
END:DAYLIGHT
BEGIN:STANDARD
TZOFFSETFROM:-0500
TZOFFSETTO:-0600
TZNAME:CST
DTSTART:20271107T070000
END:STANDARD
END:VTIMEZONE
BEGIN:VEVENT
DTSTART;TZID=America/Chicago:20260301T093000
DTEND;TZID=America/Chicago:20260301T104500
DTSTAMP:20260422T024542
CREATED:20250110T154354Z
LAST-MODIFIED:20250110T154401Z
UID:10003329-1772357400-1772361900@eastsunshine.org
SUMMARY:Sunday Worship
DESCRIPTION:
URL:https://eastsunshine.org/event/sunday-worship-39/2026-03-01/
END:VEVENT
BEGIN:VEVENT
DTSTART;TZID=America/Chicago:20260304T183000
DTEND;TZID=America/Chicago:20260304T193000
DTSTAMP:20260422T024542
CREATED:20260109T193855Z
LAST-MODIFIED:20260114T203614Z
UID:10003587-1772649000-1772652600@eastsunshine.org
SUMMARY:Sanctuary Night
DESCRIPTION:Sanctuary Night is the first Wednesday of every month. Bring your own meal and eat with friends from 5:45 – 6:20 pm\, or just come at 6:30 pm for a special time of worship\, praise or testimony. No classes meet on Sanctuary Night.
URL:https://eastsunshine.org/event/wednesday-night-gathering-59/
CATEGORIES:All Congregational
ATTACH;FMTTYPE=image/jpeg:https://eastsunshine.org/wp-content/uploads/2026/01/Sanctuary-Night-WEBLOOP-1024-x-576-px27.jpg
END:VEVENT
BEGIN:VEVENT
DTSTART;TZID=America/Chicago:20260306T180000
DTEND;TZID=America/Chicago:20260306T200000
DTSTAMP:20260422T024542
CREATED:20260113T212004Z
LAST-MODIFIED:20260212T211650Z
UID:10004407-1772820000-1772827200@eastsunshine.org
SUMMARY:Men's Retreat - March 6 & 7
DESCRIPTION:The men of East Sunshine are encouraged to gather for a Men’s Retreat at the church building. Plan on coming Friday\, March 6 at 6:00pm for dinner and the welcome session\, then stay for board games as the night winds down. Come back bright and early on Saturday morning for a delicious breakfast and more gatherings aimed to feed your soul. Later lunch will be served and the wind up happens at 2:30 pm. \nSaturday\, you will be encouraged and blessed by these topics:                                                                                                                                                    Session 1 (Greg Bukovatz: Standing Up: Rejecting Passivity and Embracing Responsibility)                                                                                                  Session 2 (Mike Johns: Strength That Blesses: Using Power to Build\, Not Control)                                                                                                                    Session 3 (Jeff Broussard: Walking It Out: Becoming a Man Who Stands Up Daily) \nThe cost is $25 for attendance and three meals. Scholarships are available\, so don’t let anything deter you from attending this great time of getting together to share life in Jesus with your brothers in Christ! \nSIGN UP HERE
URL:https://eastsunshine.org/event/mens-retreat-3/
LOCATION:Fireside Room
CATEGORIES:Men's Ministry
ATTACH;FMTTYPE=image/jpeg:https://eastsunshine.org/wp-content/uploads/2026/01/Mens-Retreat-web.jpg
END:VEVENT
BEGIN:VEVENT
DTSTART;TZID=America/Chicago:20260308T093000
DTEND;TZID=America/Chicago:20260308T104500
DTSTAMP:20260422T024542
CREATED:20250110T154354Z
LAST-MODIFIED:20250110T154401Z
UID:10003330-1772962200-1772966700@eastsunshine.org
SUMMARY:Sunday Worship
DESCRIPTION:
URL:https://eastsunshine.org/event/sunday-worship-39/2026-03-08/
END:VEVENT
BEGIN:VEVENT
DTSTART;TZID=America/Chicago:20260308T160000
DTEND;TZID=America/Chicago:20260308T180000
DTSTAMP:20260422T024542
CREATED:20260206T172940Z
LAST-MODIFIED:20260206T173320Z
UID:10004432-1772985600-1772992800@eastsunshine.org
SUMMARY:Chili Cook-off
DESCRIPTION:Show off your culinary skills in our chili cook-off\n\n\nPrizes will be awarded for Best Chili\, Best Cookie\, Best Chili Cook-off Team\, and best Booth! Sign-up to enter your chili and cookies in the cook-off. Each entrant will be provided a table to decorate as well! Everyone is invited to come and taste all the amazing food entries from 4:00 – 6:00 pm. \n\nAll proceeds will go to support our partnership with Weller Elementary and to James River Nursing Home Resident Support. \nCLICK HERE to enter the cook-off
URL:https://eastsunshine.org/event/chili-cook-off-2/
LOCATION:Church gym
CATEGORIES:All Congregational
ATTACH;FMTTYPE=image/jpeg:https://eastsunshine.org/wp-content/uploads/2026/02/add-QR-code.jpg
END:VEVENT
BEGIN:VEVENT
DTSTART;TZID=America/Chicago:20260311T183000
DTEND;TZID=America/Chicago:20260311T193000
DTSTAMP:20260422T024542
CREATED:20230103T213200Z
LAST-MODIFIED:20230103T213201Z
UID:10003588-1773253800-1773257400@eastsunshine.org
SUMMARY:Wednesday Night Gathering
DESCRIPTION:
URL:https://eastsunshine.org/event/wednesday-night-gathering-2-2/2026-03-11/
END:VEVENT
BEGIN:VEVENT
DTSTART;TZID=America/Chicago:20260315T093000
DTEND;TZID=America/Chicago:20260315T104500
DTSTAMP:20260422T024542
CREATED:20250110T154354Z
LAST-MODIFIED:20250110T154401Z
UID:10003331-1773567000-1773571500@eastsunshine.org
SUMMARY:Sunday Worship
DESCRIPTION:
URL:https://eastsunshine.org/event/sunday-worship-39/2026-03-15/
END:VEVENT
BEGIN:VEVENT
DTSTART;TZID=America/Chicago:20260318T183000
DTEND;TZID=America/Chicago:20260318T193000
DTSTAMP:20260422T024542
CREATED:20230103T213200Z
LAST-MODIFIED:20230103T213201Z
UID:10003589-1773858600-1773862200@eastsunshine.org
SUMMARY:Wednesday Night Gathering
DESCRIPTION:
URL:https://eastsunshine.org/event/wednesday-night-gathering-2-2/2026-03-18/
END:VEVENT
BEGIN:VEVENT
DTSTART;TZID=America/Chicago:20260322T093000
DTEND;TZID=America/Chicago:20260322T104500
DTSTAMP:20260422T024542
CREATED:20260122T202307Z
LAST-MODIFIED:20260318T191015Z
UID:10003332-1774171800-1774176300@eastsunshine.org
SUMMARY:Sunday Worship - Baby Dedication
DESCRIPTION:Today we celebrate the babies born in the last year. Parents\, grandparents and faith parents will all help to welcome and support these children during their lives. Come and help us lift up these children and their families in prayer as they seek to honor God in their family.
URL:https://eastsunshine.org/event/sunday-worship-61/
CATEGORIES:All Congregational,Children and Families
ATTACH;FMTTYPE=image/jpeg:https://eastsunshine.org/wp-content/uploads/2026/01/2.jpg
END:VEVENT
BEGIN:VEVENT
DTSTART;TZID=America/Chicago:20260325T183000
DTEND;TZID=America/Chicago:20260325T193000
DTSTAMP:20260422T024542
CREATED:20230103T213200Z
LAST-MODIFIED:20230103T213201Z
UID:10003590-1774463400-1774467000@eastsunshine.org
SUMMARY:Wednesday Night Gathering
DESCRIPTION:
URL:https://eastsunshine.org/event/wednesday-night-gathering-2-2/2026-03-25/
END:VEVENT
BEGIN:VEVENT
DTSTART;TZID=America/Chicago:20260327T183000
DTEND;TZID=America/Chicago:20260327T220000
DTSTAMP:20260422T024542
CREATED:20260128T192251Z
LAST-MODIFIED:20260129T162953Z
UID:10004424-1774636200-1774648800@eastsunshine.org
SUMMARY:Game Night
DESCRIPTION:Join us for a fun-filled evening at our Monthly Game Night! Whether you’re a card game enthusiast or a board game lover\, there’s something for everyone. This activity is designed for adults and teens only\, please! \nDetails:\n• Bring Your Own Snacks: Feel free to bring your favorite snacks to share with friends.\n• Bring a game you would like to play/teach or elect to play/learn from a unique selection of games provided. Standard playing card sets are also provided for all.\n• Come alone or bring friends and family – Let’s make memories\, enjoy some great games\, and have a fantastic time together. \nWe look forward to seeing you there!
URL:https://eastsunshine.org/event/game-night-7/
CATEGORIES:All Congregational
ATTACH;FMTTYPE=image/jpeg:https://eastsunshine.org/wp-content/uploads/2026/01/GAME-NIGHT-SLIDE.jpg
END:VEVENT
BEGIN:VEVENT
DTSTART;TZID=America/Chicago:20260329T093000
DTEND;TZID=America/Chicago:20260329T104500
DTSTAMP:20260422T024542
CREATED:20251027T180632Z
LAST-MODIFIED:20260304T161529Z
UID:10003333-1774776600-1774781100@eastsunshine.org
SUMMARY:Sunday Worship - Palm Sunday
DESCRIPTION:As we prepare for Easter\, we celebrate Palm Sunday\, the day that Jesus arrived in Jerusalem. The Kingdom Kids classes will be offering a gift of praise during the worship hour.
URL:https://eastsunshine.org/event/sunday-worship-57/
CATEGORIES:All Congregational
ATTACH;FMTTYPE=image/jpeg:https://eastsunshine.org/wp-content/uploads/2025/10/Palm-Sunday-SLIDE.jpg
END:VEVENT
END:VCALENDAR