BEGIN:VCALENDAR
VERSION:2.0
PRODID:-//Welcome To East Sunshine - ECPv6.15.20//NONSGML v1.0//EN
CALSCALE:GREGORIAN
METHOD:PUBLISH
X-ORIGINAL-URL:https://eastsunshine.org
X-WR-CALDESC:Events for Welcome To East Sunshine
REFRESH-INTERVAL;VALUE=DURATION:PT1H
X-Robots-Tag:noindex
X-PUBLISHED-TTL:PT1H
BEGIN:VTIMEZONE
TZID:America/Chicago
BEGIN:DAYLIGHT
TZOFFSETFROM:-0600
TZOFFSETTO:-0500
TZNAME:CDT
DTSTART:20240310T080000
END:DAYLIGHT
BEGIN:STANDARD
TZOFFSETFROM:-0500
TZOFFSETTO:-0600
TZNAME:CST
DTSTART:20241103T070000
END:STANDARD
BEGIN:DAYLIGHT
TZOFFSETFROM:-0600
TZOFFSETTO:-0500
TZNAME:CDT
DTSTART:20250309T080000
END:DAYLIGHT
BEGIN:STANDARD
TZOFFSETFROM:-0500
TZOFFSETTO:-0600
TZNAME:CST
DTSTART:20251102T070000
END:STANDARD
BEGIN:DAYLIGHT
TZOFFSETFROM:-0600
TZOFFSETTO:-0500
TZNAME:CDT
DTSTART:20260308T080000
END:DAYLIGHT
BEGIN:STANDARD
TZOFFSETFROM:-0500
TZOFFSETTO:-0600
TZNAME:CST
DTSTART:20261101T070000
END:STANDARD
BEGIN:DAYLIGHT
TZOFFSETFROM:-0600
TZOFFSETTO:-0500
TZNAME:CDT
DTSTART:20270314T080000
END:DAYLIGHT
BEGIN:STANDARD
TZOFFSETFROM:-0500
TZOFFSETTO:-0600
TZNAME:CST
DTSTART:20271107T070000
END:STANDARD
END:VTIMEZONE
BEGIN:VEVENT
DTSTART;TZID=America/Chicago:20260403T180000
DTEND;TZID=America/Chicago:20260403T190000
DTSTAMP:20260420T125759
CREATED:20260304T161043Z
LAST-MODIFIED:20260304T161043Z
UID:10004443-1775239200-1775242800@eastsunshine.org
SUMMARY:Good Friday Service
DESCRIPTION:Reflect on the profound significance of Good Friday\, marking Jesus Christ’s crucifixion. Join us in solemn observance.
URL:https://eastsunshine.org/event/good-friday-service-2/
LOCATION:Auditorium
CATEGORIES:All Congregational
ATTACH;FMTTYPE=image/jpeg:https://eastsunshine.org/wp-content/uploads/2026/03/good-friday-service-2026-SLIDE.jpg
END:VEVENT
BEGIN:VEVENT
DTSTART;TZID=America/Chicago:20250418T180000
DTEND;TZID=America/Chicago:20250418T190000
DTSTAMP:20260420T125759
CREATED:20250211T201011Z
LAST-MODIFIED:20250303T184918Z
UID:10004020-1744999200-1745002800@eastsunshine.org
SUMMARY:Good Friday Service
DESCRIPTION:A Good Friday service recreates the betrayal\, abandonment\, and agony of the death of Christ\, and it is left unfinished\, because the story isn’t over until Easter Day.\nBy staying in this part of the story we can experience more fully the tension\, grief and suspense of Holy Week. But why wallow in all this pain? In part\, to deepen our surprise\, relief and hope that comes with Easter morning. Join us on Good Friday\, April 18!
URL:https://eastsunshine.org/event/good-friday-service/
LOCATION:Auditorium
CATEGORIES:All Congregational
ATTACH;FMTTYPE=image/jpeg:https://eastsunshine.org/wp-content/uploads/2025/02/Good-Friday-SLIDE.jpg
END:VEVENT
BEGIN:VEVENT
DTSTART;TZID=America/Chicago:20250305T183000
DTEND;TZID=America/Chicago:20250305T193000
DTSTAMP:20260420T125759
CREATED:20250110T162718Z
LAST-MODIFIED:20250211T195227Z
UID:10003535-1741199400-1741203000@eastsunshine.org
SUMMARY:Ash Wednesday Service
DESCRIPTION:Ash Wednesday emphasizes a dual encounter: we confront our own mortality and confess our sin before God within the community of Faith. The form and content of the service focuses on the dual themes of sin and death in the light of God’s redeeming love in Jesus Christ. This service will feature the imposition of ashes (on the forehead).
URL:https://eastsunshine.org/event/wednesday-night-gathering-38/
LOCATION:Auditorium
CATEGORIES:All Congregational,Children and Families,Youth
ATTACH;FMTTYPE=image/jpeg:https://eastsunshine.org/wp-content/uploads/2025/01/Web-LOOP.jpg
END:VEVENT
END:VCALENDAR