BEGIN:VCALENDAR
VERSION:2.0
PRODID:-//Welcome To East Sunshine - ECPv6.15.20//NONSGML v1.0//EN
CALSCALE:GREGORIAN
METHOD:PUBLISH
X-WR-CALNAME:Welcome To East Sunshine
X-ORIGINAL-URL:https://eastsunshine.org
X-WR-CALDESC:Events for Welcome To East Sunshine
REFRESH-INTERVAL;VALUE=DURATION:PT1H
X-Robots-Tag:noindex
X-PUBLISHED-TTL:PT1H
BEGIN:VTIMEZONE
TZID:America/Chicago
BEGIN:DAYLIGHT
TZOFFSETFROM:-0600
TZOFFSETTO:-0500
TZNAME:CDT
DTSTART:20210314T080000
END:DAYLIGHT
BEGIN:STANDARD
TZOFFSETFROM:-0500
TZOFFSETTO:-0600
TZNAME:CST
DTSTART:20211107T070000
END:STANDARD
BEGIN:DAYLIGHT
TZOFFSETFROM:-0600
TZOFFSETTO:-0500
TZNAME:CDT
DTSTART:20220313T080000
END:DAYLIGHT
BEGIN:STANDARD
TZOFFSETFROM:-0500
TZOFFSETTO:-0600
TZNAME:CST
DTSTART:20221106T070000
END:STANDARD
BEGIN:DAYLIGHT
TZOFFSETFROM:-0600
TZOFFSETTO:-0500
TZNAME:CDT
DTSTART:20230312T080000
END:DAYLIGHT
BEGIN:STANDARD
TZOFFSETFROM:-0500
TZOFFSETTO:-0600
TZNAME:CST
DTSTART:20231105T070000
END:STANDARD
BEGIN:DAYLIGHT
TZOFFSETFROM:-0600
TZOFFSETTO:-0500
TZNAME:CDT
DTSTART:20240310T080000
END:DAYLIGHT
BEGIN:STANDARD
TZOFFSETFROM:-0500
TZOFFSETTO:-0600
TZNAME:CST
DTSTART:20241103T070000
END:STANDARD
END:VTIMEZONE
BEGIN:VEVENT
DTSTART;TZID=America/Chicago:20230528T120000
DTEND;TZID=America/Chicago:20230528T140000
DTSTAMP:20260420T183616
CREATED:20230306T201319Z
LAST-MODIFIED:20230505T210705Z
UID:10003711-1685275200-1685282400@eastsunshine.org
SUMMARY:Party on the Lawn
DESCRIPTION:This is a FREE event. We ask that you sign up so we can estimate food quantities. (CLICK HERE TO SIGN UP)\nFood Truck\, BBQ sandwiches\, Ice Cream and Inflatables equals a lazy time on the lawn with family and friends! Meal tickets for adults and children (ages 1-11 yrs) will be given out to those who sign up.\nBring your own chairs or blankets for seating. Family friendly lawn games are encouraged!\nCome join us as we gather for some fun in the sun!
URL:https://eastsunshine.org/event/party-on-the-lawn-2/
LOCATION:Church front lawn
CATEGORIES:All Congregational
ATTACH;FMTTYPE=image/jpeg:https://eastsunshine.org/wp-content/uploads/2023/03/lawn-party-WEB.jpg
END:VEVENT
BEGIN:VEVENT
DTSTART;TZID=America/Chicago:20220605T120000
DTEND;TZID=America/Chicago:20220605T140000
DTSTAMP:20260420T183616
CREATED:20220413T154810Z
LAST-MODIFIED:20220621T173905Z
UID:10003114-1654430400-1654437600@eastsunshine.org
SUMMARY:Party on the Lawn
DESCRIPTION:Come and enjoy our annual Food Truck and Fun Fest on the front lawn. There will be free food\, inflatables and plenty of shade\, so plan to Party on the Lawn with us! Each person who signs up will be given tickets to be redeemed at the food vendors. Additional food tickets may be purchased that day for $3.00 each. Bring your own lawn chairs\, picnic blankets\, etc. If you have any favorite lawn games\, feel free to bring them and have fun with your family and friends. \n REGISTER HERE SO WE CAN PLAN FOR FOOD. \n  \n  \n 
URL:https://eastsunshine.org/event/party-on-the-lawn/
LOCATION:Church front lawn
ATTACH;FMTTYPE=image/jpeg:https://eastsunshine.org/wp-content/uploads/2022/04/FOOD-TRUCK-WEB.jpg
END:VEVENT
END:VCALENDAR