BEGIN:VCALENDAR
VERSION:2.0
PRODID:-//Welcome To East Sunshine - ECPv6.15.20//NONSGML v1.0//EN
CALSCALE:GREGORIAN
METHOD:PUBLISH
X-ORIGINAL-URL:https://eastsunshine.org
X-WR-CALDESC:Events for Welcome To East Sunshine
REFRESH-INTERVAL;VALUE=DURATION:PT1H
X-Robots-Tag:noindex
X-PUBLISHED-TTL:PT1H
BEGIN:VTIMEZONE
TZID:America/Chicago
BEGIN:DAYLIGHT
TZOFFSETFROM:-0600
TZOFFSETTO:-0500
TZNAME:CDT
DTSTART:20210314T080000
END:DAYLIGHT
BEGIN:STANDARD
TZOFFSETFROM:-0500
TZOFFSETTO:-0600
TZNAME:CST
DTSTART:20211107T070000
END:STANDARD
BEGIN:DAYLIGHT
TZOFFSETFROM:-0600
TZOFFSETTO:-0500
TZNAME:CDT
DTSTART:20220313T080000
END:DAYLIGHT
BEGIN:STANDARD
TZOFFSETFROM:-0500
TZOFFSETTO:-0600
TZNAME:CST
DTSTART:20221106T070000
END:STANDARD
BEGIN:DAYLIGHT
TZOFFSETFROM:-0600
TZOFFSETTO:-0500
TZNAME:CDT
DTSTART:20230312T080000
END:DAYLIGHT
BEGIN:STANDARD
TZOFFSETFROM:-0500
TZOFFSETTO:-0600
TZNAME:CST
DTSTART:20231105T070000
END:STANDARD
END:VTIMEZONE
BEGIN:VEVENT
DTSTART;TZID=America/Chicago:20220716T161500
DTEND;TZID=America/Chicago:20220716T183000
DTSTAMP:20260421T003051
CREATED:20220527T150158Z
LAST-MODIFIED:20220621T182209Z
UID:10003121-1657988100-1657996200@eastsunshine.org
SUMMARY:Skateland
DESCRIPTION:Members of all ages are invited to Springfield Skateland for FREE skating. Inline skate rental is an extra $3.00. \nThe session is from 4:30 pm – 6:30 pm. You may arrive at 4:15 pm to get your gear and find a seat.  Come join us as we blast to the past and enjoy a few hours of activity or just watch and enjoy the music and friends. Limber up for the Limbo! \n 
URL:https://eastsunshine.org/event/skateland/
LOCATION:Springfield Skateland\, 5163 S Campbell Ave\, Springfield\, Missouri\, 65810
CATEGORIES:All Congregational
ATTACH;FMTTYPE=image/jpeg:https://eastsunshine.org/wp-content/uploads/2022/05/skateland-slide.jpg
ORGANIZER;CN="Amy Kendrick":MAILTO:amy@eastsunshine.org
END:VEVENT
END:VCALENDAR